BEGIN:VCALENDAR
VERSION:2.0
PRODID:gruene-wetzlar.de
METHOD:PUBLISH
BEGIN:VTIMEZONE
TZID:Europe/Berlin
X-LIC-LOCATION:Europe/Berlin
BEGIN:DAYLIGHT
TZOFFSETFROM:+0100
TZOFFSETTO:+0200
TZNAME:CEST
DTSTART:19700329T020000
RRULE:FREQ=YEARLY;INTERVAL=1;BYDAY=-1SU;BYMONTH=3
END:DAYLIGHT
BEGIN:STANDARD
TZOFFSETFROM:+0200
TZOFFSETTO:+0100
TZNAME:CET
DTSTART:19701025T030000
RRULE:FREQ=YEARLY;INTERVAL=1;BYDAY=-1SU;BYMONTH=10
END:STANDARD
END:VTIMEZONE
BEGIN:VEVENT
UID:61757a39b90b89c55f045e65eaaf307b@gruene-wetzlar.de
URL;VALUE=URI:https://gruene-wetzlar.de/termine/buergerinnensprechstunde-
 2/
LOCATION:Geschäftsstelle, Weißadlergasse 9, 35578 Wetzlar
SUMMARY:BürgerInnensprechstunde
DESCRIPTION;ALTREP="data:text/html,Am%20Mittwoch%2C%20den%2010.%20Juni%20
 von%2017%20bis%2018%20Uhr%2C%20findet%20die%20n%C3%A4chste%20B%C3%BCrgerI
 nnensprechstunde%20in%20der%20Gesch%C3%A4ftsstelle%20statt.":Am Mittwoch\
 , den 10. Juni von 17 bis 18 Uhr\, findet die nächste BürgerInnensprech
 stunde in der Geschäftsstelle statt.
CLASS:PUBLIC
DTSTART;TZID=Europe/Berlin:20260610T170000
DTEND;TZID=Europe/Berlin:20260610T180000
DTSTAMP:20260420T173448
END:VEVENT
END:VCALENDAR