BEGIN:VCALENDAR
VERSION:2.0
PRODID:gruene-wetzlar.de
METHOD:PUBLISH
BEGIN:VTIMEZONE
TZID:Europe/Berlin
X-LIC-LOCATION:Europe/Berlin
BEGIN:DAYLIGHT
TZOFFSETFROM:+0100
TZOFFSETTO:+0200
TZNAME:CEST
DTSTART:19700329T020000
RRULE:FREQ=YEARLY;INTERVAL=1;BYDAY=-1SU;BYMONTH=3
END:DAYLIGHT
BEGIN:STANDARD
TZOFFSETFROM:+0200
TZOFFSETTO:+0100
TZNAME:CET
DTSTART:19701025T030000
RRULE:FREQ=YEARLY;INTERVAL=1;BYDAY=-1SU;BYMONTH=10
END:STANDARD
END:VTIMEZONE
BEGIN:VEVENT
UID:1dafe23eff0a0a935643880918a4f399@gruene-wetzlar.de
URL;VALUE=URI:https://gruene-wetzlar.de/termine/politischer-frauenstammti
 sch-8/
LOCATION:
SUMMARY:Politischer Frauenstammtisch
DESCRIPTION;ALTREP="data:text/html,Am%20Donnerstag%2C%20den%2021.%20Mai%2
 0um%2019%20Uhr%2C%20findet%20der%20n%C3%A4chste%20Politische%20Frauenstam
 mtisch%20statt.%0D%0A%0D%0ADer%20Ort%20wird%20noch%20bekannt%20gegeben.%0
 D%0A%0D%0A%26nbsp%3B%0D%0A%0D%0ALiebe%20Gr%C3%BC%C3%9Fe%0D%0A%0D%0APetra%
 20und%20Emely":Am Donnerstag\, den 21. Mai um 19 Uhr\, findet der nächst
 e Politische Frauenstammtisch statt.\n\nDer Ort wird noch bekannt gegeben
 .\n\n \n\nLiebe Grüße\n\nPetra und Emely
CLASS:PUBLIC
DTSTART;TZID=Europe/Berlin:20260521T190000
DTEND;TZID=Europe/Berlin:20260521T200000
DTSTAMP:20260420T174028
END:VEVENT
END:VCALENDAR